BEGIN:VCALENDAR
VERSION:2.0
PRODID:-//pretix//ESN_Austria//
BEGIN:VTIMEZONE
TZID:Europe/Vienna
BEGIN:STANDARD
DTSTART:20001029T040000
RRULE:FREQ=YEARLY;BYDAY=-1SU;BYMONTH=10
TZNAME:CET
TZOFFSETFROM:+0200
TZOFFSETTO:+0100
END:STANDARD
BEGIN:DAYLIGHT
DTSTART:20000326T030000
RRULE:FREQ=YEARLY;BYDAY=-1SU;BYMONTH=3
TZNAME:CEST
TZOFFSETFROM:+0100
TZOFFSETTO:+0200
END:DAYLIGHT
END:VTIMEZONE
BEGIN:VEVENT
UID:pretix-esnuniwien-3ebdr-0@registrations.esnaustria.org
DTSTART;TZID=Europe/Vienna:20240421T190000
DTEND;TZID=Europe/Vienna:20240421T223000
DESCRIPTION:Tickets: https://registrations.esnaustria.org/esnuniwien/3ebdr/
 \nOrganizer: ESN Uni Wien
DTSTAMP:20260421T004700Z
LOCATION:Aera\, Aera\, Gonzagagasse 11\, 1010 Vienna
SUMMARY:MAESTRO Impro Comedy Show with ESN
END:VEVENT
END:VCALENDAR
