BEGIN:VCALENDAR
VERSION:2.0
PRODID:-//pretix//ESN_Austria//
BEGIN:VTIMEZONE
TZID:Europe/Vienna
BEGIN:STANDARD
DTSTART:20001029T040000
RRULE:FREQ=YEARLY;BYDAY=-1SU;BYMONTH=10
TZNAME:CET
TZOFFSETFROM:+0200
TZOFFSETTO:+0100
END:STANDARD
BEGIN:DAYLIGHT
DTSTART:20000326T030000
RRULE:FREQ=YEARLY;BYDAY=-1SU;BYMONTH=3
TZNAME:CEST
TZOFFSETFROM:+0100
TZOFFSETTO:+0200
END:DAYLIGHT
END:VTIMEZONE
BEGIN:VEVENT
UID:pretix-esnuniwien-ajysd-0@registrations.esnaustria.org
DTSTART;TZID=Europe/Vienna:20231112T180000
DTEND;TZID=Europe/Vienna:20231112T203000
DESCRIPTION:Tickets: https://registrations.esnaustria.org/esnuniwien/ajysd/
 \nOrganizer: ESN Uni Wien
DTSTAMP:20260421T103533Z
LOCATION:Shebeen International Pub\, Lerchenfelder Straße 45\, in the firs
 t room of the Pub\, at the tables
SUMMARY:Power Point Karaoke with ESN
END:VEVENT
END:VCALENDAR
