BEGIN:VCALENDAR
VERSION:2.0
PRODID:-//pretix//ESN_Austria//
BEGIN:VTIMEZONE
TZID:Europe/Vienna
BEGIN:STANDARD
DTSTART:20001029T040000
RRULE:FREQ=YEARLY;BYDAY=-1SU;BYMONTH=10
TZNAME:CET
TZOFFSETFROM:+0200
TZOFFSETTO:+0100
END:STANDARD
BEGIN:DAYLIGHT
DTSTART:20000326T030000
RRULE:FREQ=YEARLY;BYDAY=-1SU;BYMONTH=3
TZNAME:CEST
TZOFFSETFROM:+0100
TZOFFSETTO:+0200
END:DAYLIGHT
END:VTIMEZONE
BEGIN:VEVENT
UID:pretix-esnuniwien-jeqyc-0@registrations.esnaustria.org
DTSTART;TZID=Europe/Vienna:20231005T170000
DTEND;TZID=Europe/Vienna:20231005T180000
DESCRIPTION:Tickets: https://registrations.esnaustria.org/esnuniwien/jeqyc/
 \nOrganizer: ESN Uni Wien
DTSTAMP:20260421T114000Z
LOCATION:Donau Insel Grillplatz 10\, Grillplatz 10 1220 Vienna\, https://ma
 ps.app.goo.gl/K8FcmphSwXknGvNT6
SUMMARY:Picknick with ESN
END:VEVENT
END:VCALENDAR
