BEGIN:VCALENDAR
VERSION:2.0
PRODID:-//pretix//ESN_Austria//
BEGIN:VTIMEZONE
TZID:Europe/Vienna
BEGIN:STANDARD
DTSTART:20001029T040000
RRULE:FREQ=YEARLY;BYDAY=-1SU;BYMONTH=10
TZNAME:CET
TZOFFSETFROM:+0200
TZOFFSETTO:+0100
END:STANDARD
BEGIN:DAYLIGHT
DTSTART:20000326T030000
RRULE:FREQ=YEARLY;BYDAY=-1SU;BYMONTH=3
TZNAME:CEST
TZOFFSETFROM:+0100
TZOFFSETTO:+0200
END:DAYLIGHT
END:VTIMEZONE
BEGIN:VEVENT
UID:pretix-esnuniwien-umeh7-0@registrations.esnaustria.org
DTSTART;TZID=Europe/Vienna:20231010T180000
DTEND;TZID=Europe/Vienna:20231010T235500
DESCRIPTION:Tickets: https://registrations.esnaustria.org/esnuniwien/umeh7/
 \nOrganizer: ESN Uni Wien
DTSTAMP:20260421T115254Z
LOCATION:Centimeter bei den Stadtbahnbögen\, Währinger Gürtel 1/Ecke Jö
 rgerstraße\, 1180 Wien
SUMMARY:Welcome Dinner with ESN
END:VEVENT
END:VCALENDAR
