BEGIN:VCALENDAR
VERSION:2.0
PRODID:-//pretix//ESN_Austria//
BEGIN:VTIMEZONE
TZID:Europe/Vienna
BEGIN:STANDARD
DTSTART:20001029T040000
RRULE:FREQ=YEARLY;BYDAY=-1SU;BYMONTH=10
TZNAME:CET
TZOFFSETFROM:+0200
TZOFFSETTO:+0100
END:STANDARD
BEGIN:DAYLIGHT
DTSTART:20000326T030000
RRULE:FREQ=YEARLY;BYDAY=-1SU;BYMONTH=3
TZNAME:CEST
TZOFFSETFROM:+0100
TZOFFSETTO:+0200
END:DAYLIGHT
END:VTIMEZONE
BEGIN:VEVENT
UID:pretix-esnuniwien-y3y8m-0@registrations.esnaustria.org
DTSTART;TZID=Europe/Vienna:20230310T140000
DTEND;TZID=Europe/Vienna:20230310T160000
DESCRIPTION:Tickets: https://registrations.esnaustria.org/esnuniwien/y3y8m/
 \nOrganizer: ESN Uni Wien
DTSTAMP:20260421T215734Z
LOCATION:in front of wien-lobAU National Park House (Dechantweg 8\, 1220 Wi
 en)\, Bus stop: 92B Raffineriestraße/Biberhaufenweg or 93A Naufahrtbrück
 e\, https://goo.gl/maps/tVAmojm7kUTTEbiN9
SUMMARY:Lobau National Park with ESN
END:VEVENT
END:VCALENDAR
