BEGIN:VCALENDAR
VERSION:2.0
PRODID:-//pretix//ESN_Austria//
BEGIN:VTIMEZONE
TZID:Europe/Vienna
BEGIN:STANDARD
DTSTART:20001029T040000
RRULE:FREQ=YEARLY;BYDAY=-1SU;BYMONTH=10
TZNAME:CET
TZOFFSETFROM:+0200
TZOFFSETTO:+0100
END:STANDARD
BEGIN:DAYLIGHT
DTSTART:20000326T030000
RRULE:FREQ=YEARLY;BYDAY=-1SU;BYMONTH=3
TZNAME:CEST
TZOFFSETFROM:+0100
TZOFFSETTO:+0200
END:DAYLIGHT
END:VTIMEZONE
BEGIN:VEVENT
UID:pretix-esnuniwien-ygnkk-0@registrations.esnaustria.org
DTSTART;TZID=Europe/Vienna:20230626T185000
DTEND;TZID=Europe/Vienna:20230626T195000
DESCRIPTION:Tickets: https://registrations.esnaustria.org/esnuniwien/ygnkk/
 \nOrganizer: ESN Uni Wien
DTSTAMP:20260421T173214Z
LOCATION:Arne Karlsson Park\, our meeting point is near the statue\, https:
 //goo.gl/maps/9V3DZZxQwDTFsKoV7
SUMMARY:Workout in the Park with ESN
END:VEVENT
END:VCALENDAR
