BEGIN:VCALENDAR
VERSION:2.0
PRODID:-//pretix//ESN_Austria//
BEGIN:VTIMEZONE
TZID:Europe/Vienna
BEGIN:STANDARD
DTSTART:20001029T040000
RRULE:FREQ=YEARLY;BYDAY=-1SU;BYMONTH=10
TZNAME:CET
TZOFFSETFROM:+0200
TZOFFSETTO:+0100
END:STANDARD
BEGIN:DAYLIGHT
DTSTART:20000326T030000
RRULE:FREQ=YEARLY;BYDAY=-1SU;BYMONTH=3
TZNAME:CEST
TZOFFSETFROM:+0100
TZOFFSETTO:+0200
END:DAYLIGHT
END:VTIMEZONE
BEGIN:VEVENT
UID:pretix-esnuniwien-yls7m-0@registrations.esnaustria.org
DTSTART;TZID=Europe/Vienna:20231007T140000
DTEND;TZID=Europe/Vienna:20231007T180000
DESCRIPTION:Tickets: https://registrations.esnaustria.org/esnuniwien/yls7m/
 \nOrganizer: ESN Uni Wien
DTSTAMP:20260421T114610Z
LOCATION:Meeting point: Tram 38 Grinzing (last stop!)\, Destination:\, SIRB
 U\, WEINGUT & HEURIGER\, 1190\, Wien\, Kahlenbergerstr. 210
SUMMARY:Hike&Heuriger with ESN
END:VEVENT
END:VCALENDAR
